Workbook

Sheet 评分汇总表
A1: 平阳县海塘安澜工程（宋埠西湾海塘）勘察设计评分汇总表
A2: ='[1]商务标评分表 '!A2 -> 时间：2022年5月24日
A3: 序号 | B3: 投标人名称 | C3: 投标报价(元） | D3: 符合性审查 | E3: 资信、业绩 | F3: 技术评分 | G3: 商务评分 | H3: 总分 | I3: 排名 | J3: 备注
A4: ='[1]商务标评分表 '!A4 -> 1 | B4: =[1]投标文件开标记录表!B4 -> 中国电建集团华东勘测设计研究院有限公司 | C4: ='[1]商务标评分表 '!C4 -> 3120000 | D4: 通过 | E4: 7 | F4: =[1]服务大纲评审1!H4 -> 44.96 | G4: ='[1]商务标评分表 '!E4 -> 37.677262 | H4: =SUM(E4:G4) -> 89.637262
A5: 2 | B5: =[1]投标文件开标记录表!B5 -> 安徽省水利水电勘测设计研究总院有限公司 | C5: ='[1]商务标评分表 '!C5 -> 3350000 | D5: 通过 | E5: 4 | F5: =[1]服务大纲评审1!H5 -> 22.68 | G5: ='[1]商务标评分表 '!E5 -> 37.616137 | H5: =SUM(E5:G5) -> 64.296137
A6: 3 | B6: =[1]投标文件开标记录表!B6 -> 广西壮族自治区水利电力勘测设计研究院有限责任公司 | C6: ='[1]商务标评分表 '!C6 -> 3388000 | D6: 通过 | E6: 4 | F6: =[1]服务大纲评审1!H6 -> 29.02 | G6: ='[1]商务标评分表 '!E6 -> 36.454768 | H6: =SUM(E6:G6) -> 69.474768
A7: 4 | B7: =[1]投标文件开标记录表!B7 -> 浙江省水利水电勘测设计院有限责任公司 | C7: ='[1]商务标评分表 '!C7 -> 3230000 | D7: 通过 | E7: 8 | F7: =[1]服务大纲评审1!H7 -> 45.88 | G7: ='[1]商务标评分表 '!E7 -> 39.358191 | H7: =SUM(E7:G7) -> 93.238191 | I7: 1
A8: 5 | B8: =[1]投标文件开标记录表!#REF! -> #REF! | C8: =[1]投标文件开标记录表!#REF! -> #REF! | D8: 通过 | H8: =SUM(E8:G8) -> 0
