Workbook

Sheet Sheet1
A1: 附表7 | B1: 平阳县平鹤线农村道路改造提升工程综合得分计算表
A2: 地点： | B2: 平阳县公共资源交易中心 | G2: 44798
A3: 序号 | B3: 投标单位名称 | C3: 有效报价（元） (通过初步评审） | D3: 偏差率*100 | E3: 商务得分（98.5分） | F3: 信誉得分 （1.5分） | G3: 综合得分 | H3: 排名
A4: 1 | B4: =VLOOKUP(A4,[1]第一信封!A$1:F$65536,2,FALSE) -> 宁波日月交通安全设施工程有限公司 | C4: 49608429 | D4: =(C4-$C$77)/$C$77*100 -> -4.0025879 | E4: =IF(D4>0,98.5-D4*1.2,98.5+D4*1) -> 94.497412 | F4: =VLOOKUP(A:A,'[1]信誉分 '!A$1:H$65536,8,FALSE) -> 1 | G4: =SUM(E4:F4) -> 95.497412
A5: 2 | B5: =VLOOKUP(A5,[1]第一信封!A$1:F$65536,2,FALSE) -> 温州博建交通建设工程有限公司 | C5: 50090134 | D5: =(C5-$C$77)/$C$77*100 -> -3.0704392 | E5: =IF(D5>0,98.5-D5*1.2,98.5+D5*1) -> 95.429561 | F5: =VLOOKUP(A:A,'[1]信誉分 '!A$1:H$65536,8,FALSE) -> 1 | G5: =SUM(E5:F5) -> 96.429561
A6: 3 | B6: =VLOOKUP(A6,[1]第一信封!A$1:F$65536,2,FALSE) -> 浙江路鑫交通设施工程有限公司 | C6: 53372256 | D6: =(C6-$C$77)/$C$77*100 -> 3.2808045 | E6: =IF(D6>0,98.5-D6*1.2,98.5+D6*1) -> 94.563035 | F6: =VLOOKUP(A:A,'[1]信誉分 '!A$1:H$65536,8,FALSE) -> 1 | G6: =SUM(E6:F6) -> 95.563035
A7: 4 | B7: =VLOOKUP(A7,[1]第一信封!A$1:F$65536,2,FALSE) -> 浙江万瑞建设集团有限公司 | C7: 53425442 | D7: =(C7-$C$77)/$C$77*100 -> 3.3837248 | E7: =IF(D7>0,98.5-D7*1.2,98.5+D7*1) -> 94.43953 | F7: =VLOOKUP(A:A,'[1]信誉分 '!A$1:H$65536,8,FALSE) -> 1 | G7: =SUM(E7:F7) -> 95.43953
A8: 5 | B8: =VLOOKUP(A8,[1]第一信封!A$1:F$65536,2,FALSE) -> 浙江万畅交通建设工程有限公司 | C8: 51015566 | D8: =(C8-$C$77)/$C$77*100 -> -1.2796331 | E8: =IF(D8>0,98.5-D8*1.2,98.5+D8*1) -> 97.220367 | F8: =VLOOKUP(A:A,'[1]信誉分 '!A$1:H$65536,8,FALSE) -> 1.5 | G8: =SUM(E8:F8) -> 98.720367
A9: 6 | B9: =VLOOKUP(A9,[1]第一信封!A$1:F$65536,2,FALSE) -> 浙江鼎舜交工建设有限公司 | C9: 51972142 | D9: =(C9-$C$77)/$C$77*100 -> 0.57143988 | E9: =IF(D9>0,98.5-D9*1.2,98.5+D9*1) -> 97.814272 | F9: =VLOOKUP(A:A,'[1]信誉分 '!A$1:H$65536,8,FALSE) -> 0.5 | G9: =SUM(E9:F9) -> 98.314272
A10: 7 | B10: =VLOOKUP(A10,[1]第一信封!A$1:F$65536,2,FALSE) -> 台州市椒江交通建设工程有限公司 | C10: 50921940 | D10: =(C10-$C$77)/$C$77*100 -> -1.460809 | E10: =IF(D10>0,98.5-D10*1.2,98.5+D10*1) -> 97.039191 | F10: =VLOOKUP(A:A,'[1]信誉分 '!A$1:H$65536,8,FALSE) -> 1 | G10: =SUM(E10:F10) -> 98.039191
A11: 8 | B11: =VLOOKUP(A11,[1]第一信封!A$1:F$65536,2,FALSE) -> 台州市四方交通建设工程有限公司 | C11: 51637237 | D11: =(C11-$C$77)/$C$77*100 -> -0.076635741 | E11: =IF(D11>0,98.5-D11*1.2,98.5+D11*1) -> 98.423364 | F11: =VLOOKUP(A:A,'[1]信誉分 '!A$1:H$65536,8,FALSE) -> 1 | G11: =SUM(E11:F11) -> 99.423364 | H11: 2
A12: 9 | B12: =VLOOKUP(A12,[1]第一信封!A$1:F$65536,2,FALSE) -> 杭州中航建设集团有限公司 | C12: / | D12: / | E12: / | F12: / | G12: /
A13: 10 | B13: =VLOOKUP(A13,[1]第一信封!A$1:F$65536,2,FALSE) -> 浙江省东阳市六合路桥建设有限公司 | C13: 53436850 | D13: =(C13-$C$77)/$C$77*100 -> 3.4058005 | E13: =IF(D13>0,98.5-D13*1.2,98.5+D13*1) -> 94.413039 | F13: =VLOOKUP(A:A,'[1]信誉分 '!A$1:H$65536,8,FALSE) -> 1 | G13: =SUM(E13:F13) -> 95.413039
A14: 11 | B14: =VLOOKUP(A14,[1]第一信封!A$1:F$65536,2,FALSE) -> 浙江省泰顺县交通工程有限公司 | C14: 53414308 | D14: =(C14-$C$77)/$C$77*100 -> 3.3621794 | E14: =IF(D14>0,98.5-D14*1.2,98.5+D14*1) -> 94.465385 | F14: =VLOOKUP(A:A,'[1]信誉分 '!A$1:H$65536,8,FALSE) -> 1 | G14: =SUM(E14:F14) -> 95.465385
A15: 12 | B15: =VLOOKUP(A15,[1]第一信封!A$1:F$65536,2,FALSE) -> 温州腾胜建设有限公司 | C15: 52232012 | D15: =(C15-$C$77)/$C$77*100 -> 1.0743151 | E15: =IF(D15>0,98.5-D15*1.2,98.5+D15*1) -> 97.210822 | F15: =VLOOKUP(A:A,'[1]信誉分 '!A$1:H$65536,8,FALSE) -> 1 | G15: =SUM(E15:F15) -> 98.210822
A16: 13 | B16: =VLOOKUP(A16,[1]第一信封!A$1:F$65536,2,FALSE) -> 创都集团有限公司 | C16: 53442531 | D16: =(C16-$C$77)/$C$77*100 -> 3.4167938 | E16: =IF(D16>0,98.5-D16*1.2,98.5+D16*1) -> 94.399847 | F16: =VLOOKUP(A:A,'[1]信誉分 '!A$1:H$65536,8,FALSE) -> 1 | G16: =SUM(E16:F16) -> 95.399847
A17: 14 | B17: =VLOOKUP(A17,[1]第一信封!A$1:F$65536,2,FALSE) -> 浙江佰特建筑工程有限公司 | C17: / | D17: / | E17: / | F17: / | G17: /
A18: 15 | B18: =VLOOKUP(A18,[1]第一信封!A$1:F$65536,2,FALSE) -> 浙江大宇交通工程有限公司 | C18: 53402990 | D18: =(C18-$C$77)/$C$77*100 -> 3.3402779 | E18: =IF(D18>0,98.5-D18*1.2,98.5+D18*1) -> 94.491667 | F18: =VLOOKUP(A:A,'[1]信誉分 '!A$1:H$65536,8,FALSE) -> 1 | G18: =SUM(E18:F18) -> 95.491667
A19: 16 | B19: =VLOOKUP(A19,[1]第一信封!A$1:F$65536,2,FALSE) -> 浙江华安泰工程集团有限公司 | C19: 51048735 | D19: =(C19-$C$77)/$C$77*100 -> -1.2154476 | E19: =IF(D19>0,98.5-D19*1.2,98.5+D19*1) -> 97.284552 | F19: =VLOOKUP(A:A,'[1]信誉分 '!A$1:H$65536,8,FALSE) -> 1 | G19: =SUM(E19:F19) -> 98.284552
A20: 17 | B20: =VLOOKUP(A20,[1]第一信封!A$1:F$65536,2,FALSE) -> 浙江安盛建设有限公司 | C20: 49936933 | D20: =(C20-$C$77)/$C$77*100 -> -3.3668989 | E20: =IF(D20>0,98.5-D20*1.2,98.5+D20*1) -> 95.133101 | F20: =VLOOKUP(A:A,'[1]信誉分 '!A$1:H$65536,8,FALSE) -> 1 | G20: =SUM(E20:F20) -> 96.133101
A21: 18 | B21: =VLOOKUP(A21,[1]第一信封!A$1:F$65536,2,FALSE) -> 温州康炜交通工程有限公司 | C21: 50255666 | D21: =(C21-$C$77)/$C$77*100 -> -2.7501177 | E21: =IF(D21>0,98.5-D21*1.2,98.5+D21*1) -> 95.749882 | F21: =VLOOKUP(A:A,'[1]信誉分 '!A$1:H$65536,8,FALSE) -> 1 | G21: =SUM(E21:F21) -> 96.749882
A22: 19 | B22: =VLOOKUP(A22,[1]第一信封!A$1:F$65536,2,FALSE) -> 温州陆航建设有限公司 | C22: 50272939 | D22: =(C22-$C$77)/$C$77*100 -> -2.7166927 | E22: =IF(D22>0,98.5-D22*1.2,98.5+D22*1) -> 95.783307 | F22: =VLOOKUP(A:A,'[1]信誉分 '!A$1:H$65536,8,FALSE) -> 1 | G22: =SUM(E22:F22) -> 96.783307
A23: 20 | B23: =VLOOKUP(A23,[1]第一信封!A$1:F$65536,2,FALSE) -> 浙江苍交建设有限公司 | C23: 53425678 | D23: =(C23-$C$77)/$C$77*100 -> 3.3841815 | E23: =IF(D23>0,98.5-D23*1.2,98.5+D23*1) -> 94.438982 | F23: =VLOOKUP(A:A,'[1]信誉分 '!A$1:H$65536,8,FALSE) -> 1 | G23: =SUM(E23:F23) -> 95.438982
A24: 21 | B24: =VLOOKUP(A24,[1]第一信封!A$1:F$65536,2,FALSE) -> 浙江裕锦建设集团有限公司 | C24: 53366344 | D24: =(C24-$C$77)/$C$77*100 -> 3.2693641 | E24: =IF(D24>0,98.5-D24*1.2,98.5+D24*1) -> 94.576763 | F24: =VLOOKUP(A:A,'[1]信誉分 '!A$1:H$65536,8,FALSE) -> 1 | G24: =SUM(E24:F24) -> 95.576763
A25: 22 | B25: =VLOOKUP(A25,[1]第二信封开标记录!A$1:G$65536,2,FALSE) -> 温州华路交通建设工程有限公司 | C25: =VLOOKUP(A25,[1]第二信封开标记录!A$1:G$65536,3,FALSE) -> 52243295 | D25: =(C25-$C$77)/$C$77*100 -> 1.0961488 | E25: =IF(D25>0,98.5-D25*1.2,98.5+D25*1) -> 97.184621 | F25: =VLOOKUP(A:A,'[1]信誉分 '!A$1:H$65536,8,FALSE) -> 1 | G25: =SUM(E25:F25) -> 98.184621
A26: 23 | B26: =VLOOKUP(A26,[1]第二信封开标记录!A$1:G$65536,2,FALSE) -> 浙江建成公路工程有限公司 | C26: =VLOOKUP(A26,[1]第二信封开标记录!A$1:G$65536,3,FALSE) -> 53391385 | D26: =(C26-$C$77)/$C$77*100 -> 3.317821 | E26: =IF(D26>0,98.5-D26*1.2,98.5+D26*1) -> 94.518615 | F26: =VLOOKUP(A:A,'[1]信誉分 '!A$1:H$65536,8,FALSE) -> 1 | G26: =SUM(E26:F26) -> 95.518615
A27: 24 | B27: =VLOOKUP(A27,[1]第二信封开标记录!A$1:G$65536,2,FALSE) -> 浙江三门兴港建设有限公司 | C27: =VLOOKUP(A27,[1]第二信封开标记录!A$1:G$65536,3,FALSE) -> 53436141 | D27: =(C27-$C$77)/$C$77*100 -> 3.4044285 | E27: =IF(D27>0,98.5-D27*1.2,98.5+D27*1) -> 94.414686 | F27: =VLOOKUP(A:A,'[1]信誉分 '!A$1:H$65536,8,FALSE) -> 1 | G27: =SUM(E27:F27) -> 95.414686
A28: 25 | B28: =VLOOKUP(A28,[1]第二信封开标记录!A$1:G$65536,2,FALSE) -> 温州中合建设有限公司 | C28: =VLOOKUP(A28,[1]第二信封开标记录!A$1:G$65536,3,FALSE) -> 50325026 | D28: =(C28-$C$77)/$C$77*100 -> -2.615899 | E28: =IF(D28>0,98.5-D28*1.2,98.5+D28*1) -> 95.884101 | F28: =VLOOKUP(A:A,'[1]信誉分 '!A$1:H$65536,8,FALSE) -> 1 | G28: =SUM(E28:F28) -> 96.884101
A29: 26 | B29: =VLOOKUP(A29,[1]第二信封开标记录!A$1:G$65536,2,FALSE) -> 浙江加晟交通工程有限公司 | C29: =VLOOKUP(A29,[1]第二信封开标记录!A$1:G$65536,3,FALSE) -> / | D29: / | E29: / | F29: / | G29: /
A30: 27 | B30: =VLOOKUP(A30,[1]第二信封开标记录!A$1:G$65536,2,FALSE) -> 重庆市实力公路开发有限公司 | C30: =VLOOKUP(A30,[1]第二信封开标记录!A$1:G$65536,3,FALSE) -> 53435714 | D30: =(C30-$C$77)/$C$77*100 -> 3.4036022 | E30: =IF(D30>0,98.5-D30*1.2,98.5+D30*1) -> 94.415677 | F30: =VLOOKUP(A:A,'[1]信誉分 '!A$1:H$65536,8,FALSE) -> 1 | G30: =SUM(E30:F30) -> 95.415677
A31: 28 | B31: =VLOOKUP(A31,[1]第二信封开标记录!A$1:G$65536,2,FALSE) -> 浙江国顺建设有限公司 | C31: =VLOOKUP(A31,[1]第二信封开标记录!A$1:G$65536,3,FALSE) -> 50543989 | D31: =(C31-$C$77)/$C$77*100 -> -2.1921831 | E31: =IF(D31>0,98.5-D31*1.2,98.5+D31*1) -> 96.307817 | F31: =VLOOKUP(A:A,'[1]信誉分 '!A$1:H$65536,8,FALSE) -> 1.5 | G31: =SUM(E31:F31) -> 97.807817
A32: 29 | B32: =VLOOKUP(A32,[1]第二信封开标记录!A$1:G$65536,2,FALSE) -> 宁波甬晟路桥建设有限公司 | C32: =VLOOKUP(A32,[1]第二信封开标记录!A$1:G$65536,3,FALSE) -> 53377262 | D32: =(C32-$C$77)/$C$77*100 -> 3.2904916 | E32: =IF(D32>0,98.5-D32*1.2,98.5+D32*1) -> 94.55141 | F32: =VLOOKUP(A:A,'[1]信誉分 '!A$1:H$65536,8,FALSE) -> 1 | G32: =SUM(E32:F32) -> 95.55141
A33: 30 | B33: =VLOOKUP(A33,[1]第二信封开标记录!A$1:G$65536,2,FALSE) -> 浙江明道交通建设有限公司 | C33: =VLOOKUP(A33,[1]第二信封开标记录!A$1:G$65536,3,FALSE) -> 53397733 | D33: =(C33-$C$77)/$C$77*100 -> 3.3301051 | E33: =IF(D33>0,98.5-D33*1.2,98.5+D33*1) -> 94.503874 | F33: =VLOOKUP(A:A,'[1]信誉分 '!A$1:H$65536,8,FALSE) -> 1 | G33: =SUM(E33:F33) -> 95.503874
A34: 31 | B34: =VLOOKUP(A34,[1]第二信封开标记录!A$1:G$65536,2,FALSE) -> 宁波龙腾交通工程有限公司 | C34: =VLOOKUP(A34,[1]第二信封开标记录!A$1:G$65536,3,FALSE) -> 53408414 | D34: =(C34-$C$77)/$C$77*100 -> 3.3507739 | E34: =IF(D34>0,98.5-D34*1.2,98.5+D34*1) -> 94.479071 | F34: =VLOOKUP(A:A,'[1]信誉分 '!A$1:H$65536,8,FALSE) -> 1 | G34: =SUM(E34:F34) -> 95.479071
A35: 32 | B35: =VLOOKUP(A35,[1]第二信封开标记录!A$1:G$65536,2,FALSE) -> 杭州南垣交通工程有限公司 | C35: =VLOOKUP(A35,[1]第二信封开标记录!A$1:G$65536,3,FALSE) -> 53416794 | D35: =(C35-$C$77)/$C$77*100 -> 3.3669901 | E35: =IF(D35>0,98.5-D35*1.2,98.5+D35*1) -> 94.459612 | F35: =VLOOKUP(A:A,'[1]信誉分 '!A$1:H$65536,8,FALSE) -> 1 | G35: =SUM(E35:F35) -> 95.459612
A36: 33 | B36: =VLOOKUP(A36,[1]第一信封!A$1:F$65536,2,FALSE) -> 宁波捷晟建设有限公司 | C36: 53425499 | D36: =(C36-$C$77)/$C$77*100 -> 3.3838351 | E36: =IF(D36>0,98.5-D36*1.2,98.5+D36*1) -> 94.439398 | F36: =VLOOKUP(A:A,'[1]信誉分 '!A$1:H$65536,8,FALSE) -> 1 | G36: =SUM(E36:F36) -> 95.439398
A37: 34 | B37: =VLOOKUP(A37,[1]第二信封开标记录!A$1:G$65536,2,FALSE) -> 台州众意建设有限公司 | C37: =VLOOKUP(A37,[1]第二信封开标记录!A$1:G$65536,3,FALSE) -> 51968987 | D37: =(C37-$C$77)/$C$77*100 -> 0.56533463 | E37: =IF(D37>0,98.5-D37*1.2,98.5+D37*1) -> 97.821598 | F37: =VLOOKUP(A:A,'[1]信誉分 '!A$1:H$65536,8,FALSE) -> 1.5 | G37: =SUM(E37:F37) -> 99.321598 | H37: 3
A38: 35 | B38: =VLOOKUP(A38,[1]第二信封开标记录!A$1:G$65536,2,FALSE) -> 温州市凯达交通工程有限公司 | C38: =VLOOKUP(A38,[1]第二信封开标记录!A$1:G$65536,3,FALSE) -> 50033890 | D38: =(C38-$C$77)/$C$77*100 -> -3.1792771 | E38: =IF(D38>0,98.5-D38*1.2,98.5+D38*1) -> 95.320723 | F38: =VLOOKUP(A:A,'[1]信誉分 '!A$1:H$65536,8,FALSE) -> 1 | G38: =SUM(E38:F38) -> 96.320723
A39: 36 | B39: =VLOOKUP(A39,[1]第二信封开标记录!A$1:G$65536,2,FALSE) -> 温州联正交通设施有限公司 | C39: =VLOOKUP(A39,[1]第二信封开标记录!A$1:G$65536,3,FALSE) -> / | D39: / | E39: / | F39: / | G39: /
A40: 37 | B40: =VLOOKUP(A40,[1]第二信封开标记录!A$1:G$65536,2,FALSE) -> 浙江新越交通建设有限公司 | C40: =VLOOKUP(A40,[1]第二信封开标记录!A$1:G$65536,3,FALSE) -> 53394206 | D40: =(C40-$C$77)/$C$77*100 -> 3.32328 | E40: =IF(D40>0,98.5-D40*1.2,98.5+D40*1) -> 94.512064 | F40: =VLOOKUP(A:A,'[1]信誉分 '!A$1:H$65536,8,FALSE) -> 1 | G40: =SUM(E40:F40) -> 95.512064
...
