Workbook

Sheet Sheet1
A1: 附表7 | B1: 平阳县平鹤线农村道路改造提升工程综合得分计算表
A2: 地点： | B2: 平阳县公共资源交易中心 | G2: 44798
A3: 序号 | B3: 投标单位名称 | C3: 有效报价（元） (通过初步评审） | D3: 偏差率*100 | E3: 商务得分（98.5分） | F3: 信誉得分 （1.5分） | G3: 综合得分 | H3: 排名
A4: 1 | B4: =VLOOKUP(A4,[1]第一信封!A$1:F$65536,2,FALSE) -> 宁波日月交通安全设施工程有限公司 | C4: 49608429 | D4: =(C4-$C$77)/$C$77*100 -> -4.0025879 | E4: =IF(D4>0,98.5-D4*1.2,98.5+D4*1) -> 94.497412 | F4: =VLOOKUP(A:A,'[1]信誉分 '!A$1:H$65536,8,FALSE) -> 1 | G4: =SUM(E4:F4) -> 95.497412
A5: 2 | B5: =VLOOKUP(A5,[1]第一信封!A$1:F$65536,2,FALSE) -> 温州博建交通建设工程有限公司 | C5: 50090134 | D5: =(C5-$C$77)/$C$77*100 -> -3.0704392 | E5: =IF(D5>0,98.5-D5*1.2,98.5+D5*1) -> 95.429561 | F5: =VLOOKUP(A:A,'[1]信誉分 '!A$1:H$65536,8,FALSE) -> 1 | G5: =SUM(E5:F5) -> 96.429561
A6: 3 | B6: =VLOOKUP(A6,[1]第一信封!A$1:F$65536,2,FALSE) -> 浙江路鑫交通设施工程有限公司 | C6: 53372256 | D6: =(C6-$C$77)/$C$77*100 -> 3.2808045 | E6: =IF(D6>0,98.5-D6*1.2,98.5+D6*1) -> 94.563035 | F6: =VLOOKUP(A:A,'[1]信誉分 '!A$1:H$65536,8,FALSE) -> 1 | G6: =SUM(E6:F6) -> 95.563035
A7: 4 | B7: =VLOOKUP(A7,[1]第一信封!A$1:F$65536,2,FALSE) -> 浙江万瑞建设集团有限公司 | C7: 53425442 | D7: =(C7-$C$77)/$C$77*100 -> 3.3837248 | E7: =IF(D7>0,98.5-D7*1.2,98.5+D7*1) -> 94.43953 | F7: =VLOOKUP(A:A,'[1]信誉分 '!A$1:H$65536,8,FALSE) -> 1 | G7: =SUM(E7:F7) -> 95.43953
A8: 5 | B8: =VLOOKUP(A8,[1]第一信封!A$1:F$65536,2,FALSE) -> 浙江万畅交通建设工程有限公司 | C8: 51015566 | D8: =(C8-$C$77)/$C$77*100 -> -1.2796331 | E8: =IF(D8>0,98.5-D8*1.2,98.5+D8*1) -> 97.220367 | F8: =VLOOKUP(A:A,'[1]信誉分 '!A$1:H$65536,8,FALSE) -> 1.5 | G8: =SUM(E8:F8) -> 98.720367
A9: 6 | B9: =VLOOKUP(A9,[1]第一信封!A$1:F$65536,2,FALSE) -> 浙江鼎舜交工建设有限公司 | C9: 51972142 | D9: =(C9-$C$77)/$C$77*100 -> 0.57143988 | E9: =IF(D9>0,98.5-D9*1.2,98.5+D9*1) -> 97.814272 | F9: =VLOOKUP(A:A,'[1]信誉分 '!A$1:H$65536,8,FALSE) -> 0.5 | G9: =SUM(E9:F9) -> 98.314272
A10: 7 | B10: =VLOOKUP(A10,[1]第一信封!A$1:F$65536,2,FALSE) -> 台州市椒江交通建设工程有限公司 | C10: 50921940 | D10: =(C10-$C$77)/$C$77*100 -> -1.460809 | E10: =IF(D10>0,98.5-D10*1.2,98.5+D10*1) -> 97.039191 | F10: =VLOOKUP(A:A,'[1]信誉分 '!A$1:H$65536,8,FALSE) -> 1 | G10: =SUM(E10:F10) -> 98.039191
A11: 8 | B11: =VLOOKUP(A11,[1]第一信封!A$1:F$65536,2,FALSE) -> 台州市四方交通建设工程有限公司 | C11: 51637237 | D11: =(C11-$C$77)/$C$77*100 -> -0.076635741 | E11: =IF(D11>0,98.5-D11*1.2,98.5+D11*1) -> 98.423364 | F11: =VLOOKUP(A:A,'[1]信誉分 '!A$1:H$65536,8,FALSE) -> 1 | G11: =SUM(E11:F11) -> 99.423364 | H11: 2
A12: 9 | B12: =VLOOKUP(A12,[1]第一信封!A$1:F$65536,2,FALSE) -> 杭州中航建设集团有限公司 | C12: / | D12: / | E12: / | F12: / | G12: /
A13: 10 | B13: =VLOOKUP(A13,[1]第一信封!A$1:F$65536,2,FALSE) -> 浙江省东阳市六合路桥建设有限公司 | C13: 53436850 | D13: =(C13-$C$77)/$C$77*100 -> 3.4058005 | E13: =IF(D13>0,98.5-D13*1.2,98.5+D13*1) -> 94.413039 | F13: =VLOOKUP(A:A,'[1]信誉分 '!A$1:H$65536,8,FALSE) -> 1 | G13: =SUM(E13:F13) -> 95.413039
A14: 11 | B14: =VLOOKUP(A14,[1]第一信封!A$1:F$65536,2,FALSE) -> 浙江省泰顺县交通工程有限公司 | C14: 53414308 | D14: =(C14-$C$77)/$C$77*100 -> 3.3621794 | E14: =IF(D14>0,98.5-D14*1.2,98.5+D14*1) -> 94.465385 | F14: =VLOOKUP(A:A,'[1]信誉分 '!A$1:H$65536,8,FALSE) -> 1 | G14: =SUM(E14:F14) -> 95.465385
A15: 12 | B15: =VLOOKUP(A15,[1]第一信封!A$1:F$65536,2,FALSE) -> 温州腾胜建设有限公司 | C15: 52232012 | D15: =(C15-$C$77)/$C$77*100 -> 1.0743151 | E15: =IF(D15>0,98.5-D15*1.2,98.5+D15*1) -> 97.210822 | F15: =VLOOKUP(A:A,'[1]信誉分 '!A$1:H$65536,8,FALSE) -> 1 | G15: =SUM(E15:F15) -> 98.210822
A16: 13 | B16: =VLOOKUP(A16,[1]第一信封!A$1:F$65536,2,FALSE) -> 创都集团有限公司 | C16: 53442531 | D16: =(C16-$C$77)/$C$77*100 -> 3.4167938 | E16: =IF(D16>0,98.5-D16*1.2,98.5+D16*1) -> 94.399847 | F16: =VLOOKUP(A:A,'[1]信誉分 '!A$1:H$65536,8,FALSE) -> 1 | G16: =SUM(E16:F16) -> 95.399847
A17: 14 | B17: =VLOOKUP(A17,[1]第一信封!A$1:F$65536,2,FALSE) -> 浙江佰特建筑工程有限公司 | C17: / | D17: / | E17: / | F17: / | G17: /
A18: 15 | B18: =VLOOKUP(A18,[1]第一信封!A$1:F$65536,2,FALSE) -> 浙江大宇交通工程有限公司 | C18: 53402990 | D18: =(C18-$C$77)/$C$77*100 -> 3.3402779 | E18: =IF(D18>0,98.5-D18*1.2,98.5+D18*1) -> 94.491667 | F18: =VLOOKUP(A:A,'[1]信誉分 '!A$1:H$65536,8,FALSE) -> 1 | G18: =SUM(E18:F18) -> 95.491667
A19: 16 | B19: =VLOOKUP(A19,[1]第一信封!A$1:F$65536,2,FALSE) -> 浙江华安泰工程集团有限公司 | C19: 51048735 | D19: =(C19-$C$77)/$C$77*100 -> -1.2154476 | E19: =IF(D19>0,98.5-D19*1.2,98.5+D19*1) -> 97.284552 | F19: =VLOOKUP(A:A,'[1]信誉分 '!A$1:H$65536,8,FALSE) -> 1 | G19: =SUM(E19:F19) -> 98.284552
A20: 17 | B20: =VLOOKUP(A20,[1]第一信封!A$1:F$65536,2,FALSE) -> 浙江安盛建设有限公司 | C20: 49936933 | D20: =(C20-$C$77)/$C$77*100 -> -3.3668989 | E20: =IF(D20>0,98.5-D20*1.2,98.5+D20*1) -> 95.133101 | F20: =VLOOKUP(A:A,'[1]信誉分 '!A$1:H$65536,8,FALSE) -> 1 | G20: =SUM(E20:F20) -> 96.133101
A21: 18 | B21: =VLOOKUP(A21,[1]第一信封!A$1:F$65536,2,FALSE) -> 温州康炜交通工程有限公司 | C21: 50255666 | D21: =(C21-$C$77)/$C$77*100 -> -2.7501177 | E21: =IF(D21>0,98.5-D21*1.2,98.5+D21*1) -> 95.749882 | F21: =VLOOKUP(A:A,'[1]信誉分 '!A$1:H$65536,8,FALSE) -> 1 | G21: =SUM(E21:F21) -> 96.749882
A22: 19 | B22: =VLOOKUP(A22,[1]第一信封!A$1:F$65536,2,FALSE) -> 温州陆航建设有限公司 | C22: 50272939 | D22: =(C22-$C$77)/$C$77*100 -> -2.7166927 | E22: =IF(D22>0,98.5-D22*1.2,98.5+D22*1) -> 95.783307 | F22: =VLOOKUP(A:A,'[1]信誉分 '!A$1:H$65536,8,FALSE) -> 1 | G22: =SUM(E22:F22) -> 96.783307
A23: 20 | B23: =VLOOKUP(A23,[1]第一信封!A$1:F$65536,2,FALSE) -> 浙江苍交建设有限公司 | C23: 53425678 | D23: =(C23-$C$77)/$C$77*100 -> 3.3841815 | E23: =IF(D23>0,98.5-D23*1.2,98.5+D23*1) -> 94.438982 | F23: =VLOOKUP(A:A,'[1]信誉分 '!A$1:H$65536,8,FALSE) -> 1 | G23: =SUM(E23:F23) -> 95.438982
A24: 21 | B24: =VLOOKUP(A24,[1]第一信封!A$1:F$65536,2,FALSE) -> 浙江裕锦建设集团有限公司 | C24: 53366344 | D24: =(C24-$C$77)/$C$77*100 -> 3.2693641 | E24: =IF(D24>0,98.5-D24*1.2,98.5+D24*1) -> 94.576763 | F24: =VLOOKUP(A:A,'[1]信誉分 '!A$1:H$65536,8,FALSE) -> 1 | G24: =SUM(E24:F24) -> 95.576763
A25: 22 | B25: =VLOOKUP(A25,[1]第二信封开标记录!A$1:G$65536,2,FALSE) -> 温州华路交通建设工程有限公司 | C25: =VLOOKUP(A25,[1]第二信封开标记录!A$1:G$65536,3,FALSE) -> 52243295 | D25: =(C25-$C$77)/$C$77*100 -> 1.0961488 | E25: =IF(D25>0,98.5-D25*1.2,98.5+D25*1) -> 97.184621 | F25: =VLOOKUP(A:A,'[1]信誉分 '!A$1:H$65536,8,FALSE) -> 1 | G25: =SUM(E25:F25) -> 98.184621
A26: 23 | B26: =VLOOKUP(A26,[1]第二信封开标记录!A$1:G$65536,2,FALSE) -> 浙江建成公路工程有限公司 | C26: =VLOOKUP(A26,[1]第二信封开标记录!A$1:G$65536,3,FALSE) -> 53391385 | D26: =(C26-$C$77)/$C$77*100 -> 3.317821 | E26: =IF(D26>0,98.5-D26*1.2,98.5+D26*1) -> 94.518615 | F26: =VLOOKUP(A:A,'[1]信誉分 '!A$1:H$65536,8,FALSE) -> 1 | G26: =SUM(E26:F26) -> 95.518615
A27: 24 | B27: =VLOOKUP(A27,[1]第二信封开标记录!A$1:G$65536,2,FALSE) -> 浙江三门兴港建设有限公司 | C27: =VLOOKUP(A27,[1]第二信封开标记录!A$1:G$65536,3,FALSE) -> 53436141 | D27: =(C27-$C$77)/$C$77*100 -> 3.4044285 | E27: =IF(D27>0,98.5-D27*1.2,98.5+D27*1) -> 94.414686 | F27: =VLOOKUP(A:A,'[1]信誉分 '!A$1:H$65536,8,FALSE) -> 1 | G27: =SUM(E27:F27) -> 95.414686
A28: 25 | B28: =VLOOKUP(A28,[1]第二信封开标记录!A$1:G$65536,2,FALSE) -> 温州中合建设有限公司 | C28: =VLOOKUP(A28,[1]第二信封开标记录!A$1:G$65536,3,FALSE) -> 50325026 | D28: =(C28-$C$77)/$C$77*100 -> -2.615899 | E28: =IF(D28>0,98.5-D28*1.2,98.5+D28*1) -> 95.884101 | F28: =VLOOKUP(A:A,'[1]信誉分 '!A$1:H$65536,8,FALSE) -> 1 | G28: =SUM(E28:F28) -> 96.884101
A29: 26 | B29: =VLOOKUP(A29,[1]第二信封开标记录!A$1:G$65536,2,FALSE) -> 浙江加晟交通工程有限公司 | C29: =VLOOKUP(A29,[1]第二信封开标记录!A$1:G$65536,3,FALSE) -> / | D29: / | E29: / | F29: / | G29: /
A30: 27 | B30: =VLOOKUP(A30,[1]第二信封开标记录!A$1:G$65536,2,FALSE) -> 重庆市实力公路开发有限公司 | C30: =VLOOKUP(A30,[1]第二信封开标记录!A$1:G$65536,3,FALSE) -> 53435714 | D30: =(C30-$C$77)/$C$77*100 -> 3.4036022 | E30: =IF(D30>0,98.5-D30*1.2,98.5+D30*1) -> 94.415677 | F30: =VLOOKUP(A:A,'[1]信誉分 '!A$1:H$65536,8,FALSE) -> 1 | G30: =SUM(E30:F30) -> 95.415677
A31: 28 | B31: =VLOOKUP(A31,[1]第二信封开标记录!A$1:G$65536,2,FALSE) -> 浙江国顺建设有限公司 | C31: =VLOOKUP(A31,[1]第二信封开标记录!A$1:G$65536,3,FALSE) -> 50543989 | D31: =(C31-$C$77)/$C$77*100 -> -2.1921831 | E31: =IF(D31>0,98.5-D31*1.2,98.5+D31*1) -> 96.307817 | F31: =VLOOKUP(A:A,'[1]信誉分 '!A$1:H$65536,8,FALSE) -> 1.5 | G31: =SUM(E31:F31) -> 97.807817
A32: 29 | B32: =VLOOKUP(A32,[1]第二信封开标记录!A$1:G$65536,2,FALSE) -> 宁波甬晟路桥建设有限公司 | C32: =VLOOKUP(A32,[1]第二信封开标记录!A$1:G$65536,3,FALSE) -> 53377262 | D32: =(C32-$C$77)/$C$77*100 -> 3.2904916 | E32: =IF(D32>0,98.5-D32*1.2,98.5+D32*1) -> 94.55141 | F32: =VLOOKUP(A:A,'[1]信誉分 '!A$1:H$65536,8,FALSE) -> 1 | G32: =SUM(E32:F32) -> 95.55141
A33: 30 | B33: =VLOOKUP(A33,[1]第二信封开标记录!A$1:G$65536,2,FALSE) -> 浙江明道交通建设有限公司 | C33: =VLOOKUP(A33,[1]第二信封开标记录!A$1:G$65536,3,FALSE) -> 53397733 | D33: =(C33-$C$77)/$C$77*100 -> 3.3301051 | E33: =IF(D33>0,98.5-D33*1.2,98.5+D33*1) -> 94.503874 | F33: =VLOOKUP(A:A,'[1]信誉分 '!A$1:H$65536,8,FALSE) -> 1 | G33: =SUM(E33:F33) -> 95.503874
A34: 31 | B34: =VLOOKUP(A34,[1]第二信封开标记录!A$1:G$65536,2,FALSE) -> 宁波龙腾交通工程有限公司 | C34: =VLOOKUP(A34,[1]第二信封开标记录!A$1:G$65536,3,FALSE) -> 53408414 | D34: =(C34-$C$77)/$C$77*100 -> 3.3507739 | E34: =IF(D34>0,98.5-D34*1.2,98.5+D34*1) -> 94.479071 | F34: =VLOOKUP(A:A,'[1]信誉分 '!A$1:H$65536,8,FALSE) -> 1 | G34: =SUM(E34:F34) -> 95.479071
A35: 32 | B35: =VLOOKUP(A35,[1]第二信封开标记录!A$1:G$65536,2,FALSE) -> 杭州南垣交通工程有限公司 | C35: =VLOOKUP(A35,[1]第二信封开标记录!A$1:G$65536,3,FALSE) -> 53416794 | D35: =(C35-$C$77)/$C$77*100 -> 3.3669901 | E35: =IF(D35>0,98.5-D35*1.2,98.5+D35*1) -> 94.459612 | F35: =VLOOKUP(A:A,'[1]信誉分 '!A$1:H$65536,8,FALSE) -> 1 | G35: =SUM(E35:F35) -> 95.459612
A36: 33 | B36: =VLOOKUP(A36,[1]第一信封!A$1:F$65536,2,FALSE) -> 宁波捷晟建设有限公司 | C36: 53425499 | D36: =(C36-$C$77)/$C$77*100 -> 3.3838351 | E36: =IF(D36>0,98.5-D36*1.2,98.5+D36*1) -> 94.439398 | F36: =VLOOKUP(A:A,'[1]信誉分 '!A$1:H$65536,8,FALSE) -> 1 | G36: =SUM(E36:F36) -> 95.439398
A37: 34 | B37: =VLOOKUP(A37,[1]第二信封开标记录!A$1:G$65536,2,FALSE) -> 台州众意建设有限公司 | C37: =VLOOKUP(A37,[1]第二信封开标记录!A$1:G$65536,3,FALSE) -> 51968987 | D37: =(C37-$C$77)/$C$77*100 -> 0.56533463 | E37: =IF(D37>0,98.5-D37*1.2,98.5+D37*1) -> 97.821598 | F37: =VLOOKUP(A:A,'[1]信誉分 '!A$1:H$65536,8,FALSE) -> 1.5 | G37: =SUM(E37:F37) -> 99.321598 | H37: 3
A38: 35 | B38: =VLOOKUP(A38,[1]第二信封开标记录!A$1:G$65536,2,FALSE) -> 温州市凯达交通工程有限公司 | C38: =VLOOKUP(A38,[1]第二信封开标记录!A$1:G$65536,3,FALSE) -> 50033890 | D38: =(C38-$C$77)/$C$77*100 -> -3.1792771 | E38: =IF(D38>0,98.5-D38*1.2,98.5+D38*1) -> 95.320723 | F38: =VLOOKUP(A:A,'[1]信誉分 '!A$1:H$65536,8,FALSE) -> 1 | G38: =SUM(E38:F38) -> 96.320723
A39: 36 | B39: =VLOOKUP(A39,[1]第二信封开标记录!A$1:G$65536,2,FALSE) -> 温州联正交通设施有限公司 | C39: =VLOOKUP(A39,[1]第二信封开标记录!A$1:G$65536,3,FALSE) -> / | D39: / | E39: / | F39: / | G39: /
A40: 37 | B40: =VLOOKUP(A40,[1]第二信封开标记录!A$1:G$65536,2,FALSE) -> 浙江新越交通建设有限公司 | C40: =VLOOKUP(A40,[1]第二信封开标记录!A$1:G$65536,3,FALSE) -> 53394206 | D40: =(C40-$C$77)/$C$77*100 -> 3.32328 | E40: =IF(D40>0,98.5-D40*1.2,98.5+D40*1) -> 94.512064 | F40: =VLOOKUP(A:A,'[1]信誉分 '!A$1:H$65536,8,FALSE) -> 1 | G40: =SUM(E40:F40) -> 95.512064
A41: 38 | B41: =VLOOKUP(A41,[1]第二信封开标记录!A$1:G$65536,2,FALSE) -> 浙江创立建设工程有限公司 | C41: =VLOOKUP(A41,[1]第二信封开标记录!A$1:G$65536,3,FALSE) -> / | D41: / | E41: / | F41: / | G41: /
A42: 39 | B42: =VLOOKUP(A42,[1]第二信封开标记录!A$1:G$65536,2,FALSE) -> 浙江鸿翔交通建设有限公司 | C42: =VLOOKUP(A42,[1]第二信封开标记录!A$1:G$65536,3,FALSE) -> 50036695 | D42: =(C42-$C$77)/$C$77*100 -> -3.1738491 | E42: =IF(D42>0,98.5-D42*1.2,98.5+D42*1) -> 95.326151 | F42: =VLOOKUP(A:A,'[1]信誉分 '!A$1:H$65536,8,FALSE) -> 1 | G42: =SUM(E42:F42) -> 96.326151
A43: 40 | B43: =VLOOKUP(A43,[1]第二信封开标记录!A$1:G$65536,2,FALSE) -> 浙江锡鑫智能工程有限公司 | C43: =VLOOKUP(A43,[1]第二信封开标记录!A$1:G$65536,3,FALSE) -> 50196012 | D43: =(C43-$C$77)/$C$77*100 -> -2.8655543 | E43: =IF(D43>0,98.5-D43*1.2,98.5+D43*1) -> 95.634446 | F43: =VLOOKUP(A:A,'[1]信誉分 '!A$1:H$65536,8,FALSE) -> 1 | G43: =SUM(E43:F43) -> 96.634446
A44: 41 | B44: =VLOOKUP(A44,[1]第二信封开标记录!A$1:G$65536,2,FALSE) -> 浙江中途交通工程有限公司 | C44: =VLOOKUP(A44,[1]第二信封开标记录!A$1:G$65536,3,FALSE) -> 49059219 | D44: =(C44-$C$77)/$C$77*100 -> -5.0653657 | E44: =IF(D44>0,98.5-D44*1.2,98.5+D44*1) -> 93.434634 | F44: =VLOOKUP(A:A,'[1]信誉分 '!A$1:H$65536,8,FALSE) -> 1 | G44: =SUM(E44:F44) -> 94.434634
A45: 42 | B45: =VLOOKUP(A45,[1]第二信封开标记录!A$1:G$65536,2,FALSE) -> 平湖市通顺交通设施有限公司 | C45: =VLOOKUP(A45,[1]第二信封开标记录!A$1:G$65536,3,FALSE) -> 53421311 | D45: =(C45-$C$77)/$C$77*100 -> 3.3757309 | E45: =IF(D45>0,98.5-D45*1.2,98.5+D45*1) -> 94.449123 | F45: =VLOOKUP(A:A,'[1]信誉分 '!A$1:H$65536,8,FALSE) -> 1 | G45: =SUM(E45:F45) -> 95.449123
A46: 43 | B46: =VLOOKUP(A46,[1]第二信封开标记录!A$1:G$65536,2,FALSE) -> 宁波锦汇市政园林建设有限公司 | C46: =VLOOKUP(A46,[1]第二信封开标记录!A$1:G$65536,3,FALSE) -> 53344737 | D46: =(C46-$C$77)/$C$77*100 -> 3.2275524 | E46: =IF(D46>0,98.5-D46*1.2,98.5+D46*1) -> 94.626937 | F46: =VLOOKUP(A:A,'[1]信誉分 '!A$1:H$65536,8,FALSE) -> 1 | G46: =SUM(E46:F46) -> 95.626937
A47: 44 | B47: =VLOOKUP(A47,[1]第二信封开标记录!A$1:G$65536,2,FALSE) -> 温州陆顺建设工程有限公司 | C47: =VLOOKUP(A47,[1]第二信封开标记录!A$1:G$65536,3,FALSE) -> 53394153 | D47: =(C47-$C$77)/$C$77*100 -> 3.3231774 | E47: =IF(D47>0,98.5-D47*1.2,98.5+D47*1) -> 94.512187 | F47: =VLOOKUP(A:A,'[1]信誉分 '!A$1:H$65536,8,FALSE) -> 1 | G47: =SUM(E47:F47) -> 95.512187
A48: 45 | B48: =VLOOKUP(A48,[1]第二信封开标记录!A$1:G$65536,2,FALSE) -> 浙江宇明建设有限公司 | C48: =VLOOKUP(A48,[1]第二信封开标记录!A$1:G$65536,3,FALSE) -> 53385161 | D48: =(C48-$C$77)/$C$77*100 -> 3.305777 | E48: =IF(D48>0,98.5-D48*1.2,98.5+D48*1) -> 94.533068 | F48: =VLOOKUP(A:A,'[1]信誉分 '!A$1:H$65536,8,FALSE) -> 1 | G48: =SUM(E48:F48) -> 95.533068
A49: 46 | B49: =VLOOKUP(A49,[1]第二信封开标记录!A$1:G$65536,2,FALSE) -> 平阳县联城交通工程有限公司 | C49: =VLOOKUP(A49,[1]第二信封开标记录!A$1:G$65536,3,FALSE) -> 51491199 | D49: =(C49-$C$77)/$C$77*100 -> -0.35923429 | E49: =IF(D49>0,98.5-D49*1.2,98.5+D49*1) -> 98.140766 | F49: =VLOOKUP(A:A,'[1]信誉分 '!A$1:H$65536,8,FALSE) -> 1.5 | G49: =SUM(E49:F49) -> 99.640766 | H49: 1
A50: 47 | B50: =VLOOKUP(A50,[1]第二信封开标记录!A$1:G$65536,2,FALSE) -> 浙江一路建设有限公司 | C50: =VLOOKUP(A50,[1]第二信封开标记录!A$1:G$65536,3,FALSE) -> 50818519 | D50: =(C50-$C$77)/$C$77*100 -> -1.6609393 | E50: =IF(D50>0,98.5-D50*1.2,98.5+D50*1) -> 96.839061 | F50: =VLOOKUP(A:A,'[1]信誉分 '!A$1:H$65536,8,FALSE) -> 1 | G50: =SUM(E50:F50) -> 97.839061
A51: 48 | B51: =VLOOKUP(A51,[1]第二信封开标记录!A$1:G$65536,2,FALSE) -> 浙江欣元交通工程有限公司 | C51: =VLOOKUP(A51,[1]第二信封开标记录!A$1:G$65536,3,FALSE) -> 53400000 | D51: =(C51-$C$77)/$C$77*100 -> 3.334492 | E51: =IF(D51>0,98.5-D51*1.2,98.5+D51*1) -> 94.49861 | F51: =VLOOKUP(A:A,'[1]信誉分 '!A$1:H$65536,8,FALSE) -> 1 | G51: =SUM(E51:F51) -> 95.49861
A52: 49 | B52: =VLOOKUP(A52,[1]第二信封开标记录!A$1:G$65536,2,FALSE) -> 江苏建星交通工程有限公司 | C52: =VLOOKUP(A52,[1]第二信封开标记录!A$1:G$65536,3,FALSE) -> 53414108 | D52: =(C52-$C$77)/$C$77*100 -> 3.3617924 | E52: =IF(D52>0,98.5-D52*1.2,98.5+D52*1) -> 94.465849 | F52: =VLOOKUP(A:A,'[1]信誉分 '!A$1:H$65536,8,FALSE) -> 1 | G52: =SUM(E52:F52) -> 95.465849
A53: 50 | B53: =VLOOKUP(A53,[1]第二信封开标记录!A$1:G$65536,2,FALSE) -> 浙江博源建设有限公司 | C53: / | D53: / | E53: / | F53: / | G53: /
A54: 51 | B54: =VLOOKUP(A54,[1]第二信封开标记录!A$1:G$65536,2,FALSE) -> 金华市交通建筑工程公司 | C54: =VLOOKUP(A54,[1]第二信封开标记录!A$1:G$65536,3,FALSE) -> 53431163 | D54: =(C54-$C$77)/$C$77*100 -> 3.3947956 | E54: =IF(D54>0,98.5-D54*1.2,98.5+D54*1) -> 94.426245 | F54: =VLOOKUP(A:A,'[1]信誉分 '!A$1:H$65536,8,FALSE) -> 1 | G54: =SUM(E54:F54) -> 95.426245
A55: 52 | B55: =VLOOKUP(A55,[1]第二信封开标记录!A$1:G$65536,2,FALSE) -> 温州中宏交通建设有限公司 | C55: =VLOOKUP(A55,[1]第二信封开标记录!A$1:G$65536,3,FALSE) -> 53371291 | D55: =(C55-$C$77)/$C$77*100 -> 3.2789371 | E55: =IF(D55>0,98.5-D55*1.2,98.5+D55*1) -> 94.565275 | F55: =VLOOKUP(A:A,'[1]信誉分 '!A$1:H$65536,8,FALSE) -> 1 | G55: =SUM(E55:F55) -> 95.565275
A56: 53 | B56: =VLOOKUP(A56,[1]第二信封开标记录!A$1:G$65536,2,FALSE) -> 浙江宏升交通建设有限公司 | C56: =VLOOKUP(A56,[1]第二信封开标记录!A$1:G$65536,3,FALSE) -> 53428889 | D56: =(C56-$C$77)/$C$77*100 -> 3.3903951 | E56: =IF(D56>0,98.5-D56*1.2,98.5+D56*1) -> 94.431526 | F56: =VLOOKUP(A:A,'[1]信誉分 '!A$1:H$65536,8,FALSE) -> 1 | G56: =SUM(E56:F56) -> 95.431526
A57: 54 | B57: 浙江金宁建设工程有限公司 | C57: 51532045 | D57: =(C57-$C$77)/$C$77*100 -> -0.28019308 | E57: =IF(D57>0,98.5-D57*1.2,98.5+D57*1) -> 98.219807 | F57: =VLOOKUP(A:A,'[1]信誉分 '!A$1:H$65536,8,FALSE) -> 1 | G57: =SUM(E57:F57) -> 99.219807
A58: 55 | B58: =VLOOKUP(A58,[1]第二信封开标记录!A$1:G$65536,2,FALSE) -> 温州润土建设有限公司 | C58: =VLOOKUP(A58,[1]第二信封开标记录!A$1:G$65536,3,FALSE) -> / | D58: / | E58: / | F58: / | G58: /
A59: 56 | B59: =VLOOKUP(A59,[1]第一信封!A$1:F$65536,2,FALSE) -> 温州华文建设管理有限公司 | C59: 53402734 | D59: =(C59-$C$77)/$C$77*100 -> 3.3397825 | E59: =IF(D59>0,98.5-D59*1.2,98.5+D59*1) -> 94.492261 | F59: =VLOOKUP(A:A,'[1]信誉分 '!A$1:H$65536,8,FALSE) -> 1 | G59: =SUM(E59:F59) -> 95.492261
A60: 57 | B60: =VLOOKUP(A60,[1]第二信封开标记录!A$1:G$65536,2,FALSE) -> 温州三瑞建设有限公司 | C60: =VLOOKUP(A60,[1]第二信封开标记录!A$1:G$65536,3,FALSE) -> / | D60: / | E60: / | F60: / | G60: /
A61: 58 | B61: =VLOOKUP(A61,[1]第二信封开标记录!A$1:G$65536,2,FALSE) -> 龙德建设有限公司 | C61: =VLOOKUP(A61,[1]第二信封开标记录!A$1:G$65536,3,FALSE) -> 53424909 | D61: =(C61-$C$77)/$C$77*100 -> 3.3826934 | E61: =IF(D61>0,98.5-D61*1.2,98.5+D61*1) -> 94.440768 | F61: =VLOOKUP(A:A,'[1]信誉分 '!A$1:H$65536,8,FALSE) -> 1 | G61: =SUM(E61:F61) -> 95.440768
A62: 59 | B62: =VLOOKUP(A62,[1]第二信封开标记录!A$1:G$65536,2,FALSE) -> 浙江名禹工程建设有限公司 | C62: =VLOOKUP(A62,[1]第二信封开标记录!A$1:G$65536,3,FALSE) -> 50230980 | D62: =(C62-$C$77)/$C$77*100 -> -2.7978877 | E62: =IF(D62>0,98.5-D62*1.2,98.5+D62*1) -> 95.702112 | F62: =VLOOKUP(A:A,'[1]信誉分 '!A$1:H$65536,8,FALSE) -> 1 | G62: =SUM(E62:F62) -> 96.702112
A63: 60 | B63: =VLOOKUP(A63,[1]第二信封开标记录!A$1:G$65536,2,FALSE) -> 温州胜联交通工程有限公司 | C63: =VLOOKUP(A63,[1]第二信封开标记录!A$1:G$65536,3,FALSE) -> 48648689 | D63: =(C63-$C$77)/$C$77*100 -> -5.8597835 | E63: =IF(D63>0,98.5-D63*1.2,98.5+D63*1) -> 92.640217 | F63: =VLOOKUP(A:A,'[1]信誉分 '!A$1:H$65536,8,FALSE) -> 1 | G63: =SUM(E63:F63) -> 93.640217
A64: 61 | B64: =VLOOKUP(A64,[1]第二信封开标记录!A$1:G$65536,2,FALSE) -> 浙江水熊建设工程有限公司 | C64: =VLOOKUP(A64,[1]第二信封开标记录!A$1:G$65536,3,FALSE) -> 52129074 | D64: =(C64-$C$77)/$C$77*100 -> 0.87511944 | E64: =IF(D64>0,98.5-D64*1.2,98.5+D64*1) -> 97.449857 | F64: =VLOOKUP(A:A,'[1]信誉分 '!A$1:H$65536,8,FALSE) -> 1 | G64: =SUM(E64:F64) -> 98.449857
A65: 62 | B65: =VLOOKUP(A65,[1]第二信封开标记录!A$1:G$65536,2,FALSE) -> 海南本道建设工程有限公司 | C65: =VLOOKUP(A65,[1]第二信封开标记录!A$1:G$65536,3,FALSE) -> 53374305 | D65: =(C65-$C$77)/$C$77*100 -> 3.2847695 | E65: =IF(D65>0,98.5-D65*1.2,98.5+D65*1) -> 94.558277 | F65: =VLOOKUP(A:A,'[1]信誉分 '!A$1:H$65536,8,FALSE) -> 1 | G65: =SUM(E65:F65) -> 95.558277
A66: 63 | B66: =VLOOKUP(A66,[1]第二信封开标记录!A$1:G$65536,2,FALSE) -> 重庆川东路桥工程有限公司 | C66: =VLOOKUP(A66,[1]第二信封开标记录!A$1:G$65536,3,FALSE) -> 53441400 | D66: =(C66-$C$77)/$C$77*100 -> 3.4146052 | E66: =IF(D66>0,98.5-D66*1.2,98.5+D66*1) -> 94.402474 | F66: =VLOOKUP(A:A,'[1]信誉分 '!A$1:H$65536,8,FALSE) -> 1 | G66: =SUM(E66:F66) -> 95.402474
A67: 64 | B67: =VLOOKUP(A67,[1]第二信封开标记录!A$1:G$65536,2,FALSE) -> 浙江金盈建设工程有限公司 | C67: =VLOOKUP(A67,[1]第二信封开标记录!A$1:G$65536,3,FALSE) -> 47536506 | D67: =(C67-$C$77)/$C$77*100 -> -8.011972 | E67: =IF(D67>0,98.5-D67*1.2,98.5+D67*1) -> 90.488028 | F67: =VLOOKUP(A:A,'[1]信誉分 '!A$1:H$65536,8,FALSE) -> 1 | G67: =SUM(E67:F67) -> 91.488028
A68: 65 | B68: =VLOOKUP(A68,[1]第二信封开标记录!A$1:G$65536,2,FALSE) -> 浙江红鼎建设工程有限公司 | C68: / | D68: / | E68: / | F68: / | G68: /
A69: 66 | B69: =VLOOKUP(A69,[1]第二信封开标记录!A$1:G$65536,2,FALSE) -> 蓝海建设集团有限公司 | C69: =VLOOKUP(A69,[1]第二信封开标记录!A$1:G$65536,3,FALSE) -> 53419792 | D69: =(C69-$C$77)/$C$77*100 -> 3.3727915 | E69: =IF(D69>0,98.5-D69*1.2,98.5+D69*1) -> 94.45265 | F69: =VLOOKUP(A:A,'[1]信誉分 '!A$1:H$65536,8,FALSE) -> 1 | G69: =SUM(E69:F69) -> 95.45265
A70: 67 | B70: =VLOOKUP(A70,[1]第二信封开标记录!A$1:G$65536,2,FALSE) -> 杭州中奕建筑工程有限公司 | C70: =VLOOKUP(A70,[1]第二信封开标记录!A$1:G$65536,3,FALSE) -> 53438954 | D70: =(C70-$C$77)/$C$77*100 -> 3.409872 | E70: =IF(D70>0,98.5-D70*1.2,98.5+D70*1) -> 94.408154 | F70: =VLOOKUP(A:A,'[1]信誉分 '!A$1:H$65536,8,FALSE) -> 1 | G70: =SUM(E70:F70) -> 95.408154
A71: 68 | B71: =VLOOKUP(A71,[1]第二信封开标记录!A$1:G$65536,2,FALSE) -> 台州永银建设有限公司 | C71: =VLOOKUP(A71,[1]第二信封开标记录!A$1:G$65536,3,FALSE) -> 53382834 | D71: =(C71-$C$77)/$C$77*100 -> 3.301274 | E71: =IF(D71>0,98.5-D71*1.2,98.5+D71*1) -> 94.538471 | F71: =VLOOKUP(A:A,'[1]信誉分 '!A$1:H$65536,8,FALSE) -> 1 | G71: =SUM(E71:F71) -> 95.538471
A72: 69 | B72: =VLOOKUP(A72,[1]第二信封开标记录!A$1:G$65536,2,FALSE) -> 浙江中陆建设有限公司 | C72: =VLOOKUP(A72,[1]第二信封开标记录!A$1:G$65536,3,FALSE) -> 53439295 | D72: =(C72-$C$77)/$C$77*100 -> 3.4105318 | E72: =IF(D72>0,98.5-D72*1.2,98.5+D72*1) -> 94.407362 | F72: =VLOOKUP(A:A,'[1]信誉分 '!A$1:H$65536,8,FALSE) -> 1 | G72: =SUM(E72:F72) -> 95.407362
A73: 70 | B73: =VLOOKUP(A73,[1]第二信封开标记录!A$1:G$65536,2,FALSE) -> 温州弘泰建设有限公司 | C73: =VLOOKUP(A73,[1]第二信封开标记录!A$1:G$65536,3,FALSE) -> 52273000 | D73: =(C73-$C$77)/$C$77*100 -> 1.153631 | E73: =IF(D73>0,98.5-D73*1.2,98.5+D73*1) -> 97.115643 | F73: =VLOOKUP(A:A,'[1]信誉分 '!A$1:H$65536,8,FALSE) -> 0.5 | G73: =SUM(E73:F73) -> 97.615643
A74: 招标人编制的工程量清单预算（元）： | C74: =[1]第二信封开标记录!C74 -> 56859811 | E74: 调整系数（0.94、0.95、0.96） | G74: =[1]第二信封开标记录!E74 -> 0.94
A75: 投标控制价A（元） | C75: =C74*G74 -> 53448222 | E75: 算术平均值B | G75: =TRIMMEAN(C4:C73,2/59) -> 52253634
A76: 复合系数K（0.30、0.35、0.40） | C76: =[1]第二信封开标记录!C75 -> 0.4 | E76: 下浮系数i(2、3、4） | G76: =[1]第二信封开标记录!E75 -> 2
A77: 评标基准价C | C77: =(C75*C76+G75*(1-C76))*(100-G76)/100 -> 51676840
